View In:
ArcGIS JavaScript
ArcGIS Online Map Viewer
ArcGIS Earth
ArcGIS Pro
Service Description:
Map Name: Carte
Legend
All Layers and Tables
Layers:
Description:
Service Item Id: 1523a98c58f244f69f38a0ecff761058
Copyright Text:
Spatial Reference:
2056
(2056)
LatestVCSWkid(0)
Single Fused Map Cache: true
Tile Info:
- Height: 256
- Width: 256
- DPI: 96
-
Levels of Detail: 19
-
Level ID: 0
[ Start Tile, End Tile ]
- Resolution: 249539.2287554881
- Scale: 9.431403921467265E8
-
Level ID: 1
[ Start Tile, End Tile ]
- Resolution: 124769.61437774404
- Scale: 4.7157019607336324E8
-
Level ID: 2
[ Start Tile, End Tile ]
- Resolution: 62384.80718887202
- Scale: 2.3578509803668162E8
-
Level ID: 3
[ Start Tile, End Tile ]
- Resolution: 31192.40359443601
- Scale: 1.1789254901834081E8
-
Level ID: 4
[ Start Tile, End Tile ]
- Resolution: 15596.201797218006
- Scale: 5.8946274509170406E7
-
Level ID: 5
[ Start Tile, End Tile ]
- Resolution: 7798.100898609003
- Scale: 2.9473137254585203E7
-
Level ID: 6
[ Start Tile, End Tile ]
- Resolution: 3899.0504493045014
- Scale: 1.4736568627292601E7
-
Level ID: 7
[ Start Tile, End Tile ]
- Resolution: 1949.5252246522507
- Scale: 7368284.313646301
-
Level ID: 8
[ Start Tile, End Tile ]
- Resolution: 974.7626123261253
- Scale: 3684142.1568231503
-
Level ID: 9
[ Start Tile, End Tile ]
- Resolution: 487.3813061630627
- Scale: 1842071.0784115752
-
Level ID: 10
[ Start Tile, End Tile ]
- Resolution: 243.69065308153134
- Scale: 921035.5392057876
-
Level ID: 11
[ Start Tile, End Tile ]
- Resolution: 121.84532654076567
- Scale: 460517.7696028938
-
Level ID: 12
[ Start Tile, End Tile ]
- Resolution: 60.922663270382834
- Scale: 230258.8848014469
-
Level ID: 13
[ Start Tile, End Tile ]
- Resolution: 30.461331635191417
- Scale: 115129.44240072345
-
Level ID: 14
[ Start Tile, End Tile ]
- Resolution: 15.230665817595709
- Scale: 57564.721200361724
-
Level ID: 15
[ Start Tile, End Tile ]
- Resolution: 7.615332908797854
- Scale: 28782.360600180862
-
Level ID: 16
[ Start Tile, End Tile ]
- Resolution: 3.807666454398927
- Scale: 14391.180300090431
-
Level ID: 17
[ Start Tile, End Tile ]
- Resolution: 1.9038332271994636
- Scale: 7195.5901500452155
-
Level ID: 18
[ Start Tile, End Tile ]
- Resolution: 0.9519166135997318
- Scale: 3597.7950750226078
- Format: Mixed
- Compression Quality: 75.0
- Origin: X: -3.9389410576278046E7
Y: 3.1814328533151265E7
- Spatial Reference: 2056
(2056)
LatestVCSWkid(0)
Storage Info:
- Storage Format: esriMapCacheStorageModeCompactV2
- Packet Size: 128
Initial Extent:
XMin: 2457870.631309786
YMin: 1084188.063133556
XMax: 2529936.857739296
YMax: 1165826.1271446561
Spatial Reference: 2056
(2056)
LatestVCSWkid(0)
Full Extent:
XMin: 2485000.0
YMin: 1075000.0
XMax: 2834000.0
YMax: 1296000.0
Spatial Reference: 2056
(2056)
LatestVCSWkid(0)
Units: esriMeters
Supported Image Format Types: PNG32,PNG24,PNG,JPG,DIB,TIFF,EMF,PS,PDF,GIF,SVG,SVGZ,BMP
Document Info:
Title: Carte
Author:
Comments:
Subject:
Category:
Keywords:
AntialiasingMode: None
TextAntialiasingMode: Force
Supports Dynamic Layers: false
MaxRecordCount: 1000
MaxImageHeight: 4096
MaxImageWidth: 4096
Supported Query Formats: JSON, geoJSON, PBF
Supports Query Data Elements: true
Min Scale: 1842071
Max Scale: 57564
Min LOD: 9
Max LOD: 14
Supports Datum Transformation: true
Child Resources:
Info
Supported Operations:
QueryLegends
Return Updates